View In:
ArcGIS JavaScript
ArcGIS Online Map Viewer
ArcGIS Earth
ArcMap
View Footprint In:
ArcGIS Online Map Viewer
Service Description: Terrain 3D provides global elevation for your work in 3D. You can use this layer to visualize your maps and layers in 3D. Ground heights are based on multiple sources. Heights are orthometric (sea level = 0), and water bodies that are above sea level have approximated nominal water heights. This layer includes data from multiple sources ranging from 1000m - 3m, including USGS NED (1/9,1/3,1,2 arc second) covering North America, SRTM (3 arc second) covering 60 degrees north and 56 degrees south and USGS GMTED (7.5, 15 and 30 arc second) covering global land and other GIS community contributors. For more information on this service, including the terms of use, visit us online.
Name: WorldElevation3D/Terrain3D
Description: Terrain 3D provides global elevation for your work in 3D. You can use this layer to visualize your maps and layers in 3D. Ground heights are based on multiple sources. Heights are orthometric (sea level = 0), and water bodies that are above sea level have approximated nominal water heights. This layer includes data from multiple sources ranging from 1000m - 3m, including USGS NED (1/9,1/3,1,2 arc second) covering North America, SRTM (3 arc second) covering 60 degrees north and 56 degrees south and USGS GMTED (7.5, 15 and 30 arc second) covering global land and other GIS community contributors. For more information on this service, including the terms of use, visit us online.
Single Fused Map Cache: true
Tile Info:
- Height: 256
- Width: 256
- DPI: 96
-
Levels of Detail: 17
-
Level ID: 0
[ Start Tile, End Tile ]
- Resolution: 156543.03392800014
- Scale: 5.91657527591555E8
-
Level ID: 1
[ Start Tile, End Tile ]
- Resolution: 78271.51696399994
- Scale: 2.95828763795777E8
-
Level ID: 2
[ Start Tile, End Tile ]
- Resolution: 39135.75848200009
- Scale: 1.47914381897889E8
-
Level ID: 3
[ Start Tile, End Tile ]
- Resolution: 19567.87924099992
- Scale: 7.3957190948944E7
-
Level ID: 4
[ Start Tile, End Tile ]
- Resolution: 9783.93962049996
- Scale: 3.6978595474472E7
-
Level ID: 5
[ Start Tile, End Tile ]
- Resolution: 4891.96981024998
- Scale: 1.8489297737236E7
- Format: LERC
- Compression Quality: 0.0
- LERC Error: 0.1
- Origin: X: -2.0037508342787E7
Y: 2.0037508342787E7
- Spatial Reference: 102100
(3857)
Extent:
XMin: -2.0037507842788246E7
YMin: -2.0037508659999996E7
XMax: 2.0037507842788246E7
YMax: 2.0037508340000004E7
Spatial Reference: 102100
(3857)
Initial Extent:
XMin: -2.0037507842788246E7
YMin: -2.0037508659999996E7
XMax: 2.0037507842788246E7
YMax: 2.0037508340000004E7
Spatial Reference: 102100
(3857)
Full Extent:
XMin: -2.0037507842788246E7
YMin: -2.0037508659999996E7
XMax: 2.0037507842788246E7
YMax: 2.0037508340000004E7
Spatial Reference: 102100
(3857)
Pixel Size X: 2.9999999016027736
Pixel Size Y: 3.0
Band Count: 1
Pixel Type: F32
RasterFunction Infos: {"name":"None","description":"","help":""}
Mensuration Capabilities: Basic
Has Histograms: false
Has Colormap: false
Has Multi Dimensions : false
Rendering Rule:
Min Scale: 0
Max Scale: 0
Copyright Text: Source: USGS, NGA, NASA, CGIAR, GEBCO,N Robinson,NCEAS,NLS,OS,NMA,Geodatastyrelsen and the GIS User Community
Service Data Type: esriImageServiceDataTypeElevation
Min Values: -450
Max Values: 8700
Mean Values: 400
Standard Deviation Values: 870
Object ID Field: OBJECTID
Fields:
-
OBJECTID
(
type: esriFieldTypeOID
, alias: OBJECTID
)
-
Shape
(
type: esriFieldTypeGeometry
, alias: Shape
)
-
Name
(
type: esriFieldTypeString
, alias: Name
, length: 50
)
-
Category
(
type: esriFieldTypeInteger
, alias: Category
, Coded Values:
[0: Unknown]
, [1: Primary]
, [2: Overview]
, ...5 more...
)
Default Mosaic Method: None
Allowed Mosaic Methods: None
SortField: N/A
SortValue: N/A
Mosaic Operator: First
Default Compression Quality: 75
Default Resampling Method: Bilinear
Max Record Count: 2000
Max Image Height: 4000
Max Image Width: 4000
Max Download Image Count: 0
Max Mosaic Image Count: 50
Allow Raster Function: false
Allow Compute TiePoints: false
Supports Statistics: true
Supports Advanced Queries: true
Use StandardizedQueries: true
Raster Type Infos:
Name: Raster Dataset
Description: Supports all ArcGIS Raster Datasets
Help:
Has Raster Attribute Table: false
Edit Fields Info: null
Ownership Based AccessControl For Rasters: null
Child Resources:
Info
Key Properties
Legend
MultiDimensionalInfo
rasterFunctionInfos
Supported Operations:
Export Image
Identify
Measure
Compute Histograms
Compute Statistics Histograms
Get Samples
Compute Class Statistics
Query Boundary