{
 "currentVersion": 11.3,
 "cimVersion": "3.3.0",
 "serviceDescription": "<div style='text-align:Left;font-size:12pt'><p><span>This map service is designed to be used as the reference layer for the ocean base map. The reference layer includes marine water body names, undersea feature names, and derived depth values in meters. Land features include administrative boundaries, cities, inland waters, roads, overlaid on land cover and shaded relief imagery. The reference layer was compiled from a variety of best available sources from several data providers, including General Bathymetric Chart of the Oceans GEBCO_08 Grid, IHO-IOC GEBCO Gazetteer of Undersea Feature Names, National Oceanic and Atmospheric Administration (NOAA), and National Geographic, DeLorme, HERE, Geonames.org, and Esri, and various other contributors. The base map currently provides coverage for the world down to a scale of ~1:577k, and coverage down to 1:72k in US coastal areas, and various other areas. Coverage down to ~ 1:9k is available limited areas based on regional hydrographic survey data. The base map was designed and developed by Esri. NOTE: Data from the GEBCO_08 grid shall not to be used for navigation or for any other purpose relating to safety at sea. The GEBCO_08 Grid is largely based on a database of ship-track soundings with interpolation between soundings guided by satellite-derived gravity data. In some areas, data from existing grids are included. The GEBCO_08 Grid does not contain detailed information in shallower water areas, information concerning the generation of the grid can be found on GEBCO's web site: GEBCO. The GEBCO_08 Grid is accompanied by a Source Identifier (SID) Grid which indicates which cells in the GEBCO_08 Grid are based on soundings or existing grids and which have been interpolated. The latest version of both grids and accompanying documentation is available to download, on behalf of GEBCO, from the British Oceanographic Data Centre (BODC) BODC. The names of the IHO (International Hydrographic Organization), IOC (intergovernmental Oceanographic Commission), GEBCO (General Bathymetric Chart of the Oceans), NERC (Natural Environment Research Council) or BODC (British Oceanographic Data Centre) may not be used in any way to imply, directly or otherwise, endorsement or support of either the Licensee or their mapping system. For more information on this map, including our terms of use, visit us online at https://goto.arcgisonline.com/maps/Arctic_Ocean_Reference<\/span><\/p><\/div>",
 "mapName": "Layers",
 "description": "<DIV STYLE=\"text-align:Left;font-size:12pt\"><P><SPAN>This map service is designed to be used as the reference layer for the ocean base map. The reference layer includes marine water body names, undersea feature names, and derived depth values in meters. Land features include administrative boundaries, cities, inland waters, roads, overlaid on land cover and shaded relief imagery. The reference layer was compiled from a variety of best available sources from several data providers, including General Bathymetric Chart of the Oceans GEBCO_08 Grid, IHO-IOC GEBCO Gazetteer of Undersea Feature Names, National Oceanic and Atmospheric Administration (NOAA), and National Geographic, DeLorme, HERE, Geonames.org, and Esri, and various other contributors. The base map currently provides coverage for the world down to a scale of ~1:577k, and coverage down to 1:72k in US coastal areas, and various other areas. Coverage down to ~ 1:9k is available limited areas based on regional hydrographic survey data. The base map was designed and developed by Esri. NOTE: Data from the GEBCO_08 grid shall not to be used for navigation or for any other purpose relating to safety at sea. The GEBCO_08 Grid is largely based on a database of ship-track soundings with interpolation between soundings guided by satellite-derived gravity data. In some areas, data from existing grids are included. The GEBCO_08 Grid does not contain detailed information in shallower water areas, information concerning the generation of the grid can be found on GEBCO's web site: GEBCO. The GEBCO_08 Grid is accompanied by a Source Identifier (SID) Grid which indicates which cells in the GEBCO_08 Grid are based on soundings or existing grids and which have been interpolated. The latest version of both grids and accompanying documentation is available to download, on behalf of GEBCO, from the British Oceanographic Data Centre (BODC) BODC. The names of the IHO (International Hydrographic Organization), IOC (intergovernmental Oceanographic Commission), GEBCO (General Bathymetric Chart of the Oceans), NERC (Natural Environment Research Council) or BODC (British Oceanographic Data Centre) may not be used in any way to imply, directly or otherwise, endorsement or support of either the Licensee or their mapping system. For more information on this map, including our terms of use, visit us online at https://goto.arcgisonline.com/maps/Arctic_Ocean_Reference<\/SPAN><\/P><\/DIV>",
 "copyrightText": "Sources: Esri, GEBCO, NOAA, National Geographic, Garmin, HERE, Geonames.org, and other contributors",
 "supportsDynamicLayers": false,
 "layers": [
  {
   "id": 0,
   "name": "Arctic_Ocean_Reference",
   "parentLayerId": -1,
   "defaultVisibility": true,
   "subLayerIds": null,
   "minScale": 0,
   "maxScale": 0,
   "type": "Feature Layer",
   "geometryType": "esriGeometryPolygon",
   "supportsDynamicLegends": true
  }
 ],
 "tables": [],
 "spatialReference": {
  "wkid": 5936,
  "latestWkid": 5936,
  "xyTolerance": 0.001,
  "zTolerance": 0.001,
  "mTolerance": 0.001,
  "falseX": -28567900,
  "falseY": -28567900,
  "xyUnits": 10000,
  "falseZ": -100000,
  "zUnits": 10000,
  "falseM": -100000,
  "mUnits": 10000
 },
 "singleFusedMapCache": true,
 "tileInfo": {
  "rows": 256,
  "cols": 256,
  "dpi": 96,
  "format": "PNG32",
  "compressionQuality": 0,
  "origin": {
   "x": -2.8567784109255E7,
   "y": 3.2567784109255E7
  },
  "spatialReference": {
   "wkid": 5936,
   "latestWkid": 5936,
   "xyTolerance": 0.001,
   "zTolerance": 0.001,
   "mTolerance": 0.001,
   "falseX": -3.162456251271462E7,
   "falseY": -3.1624562513053983E7,
   "xyUnits": 1.3393779101713336E8,
   "falseZ": -100000,
   "zUnits": 10000,
   "falseM": -100000,
   "mUnits": 10000
  },
  "lods": [
   {
    "level": 0,
    "resolution": 238810.813354,
    "scale": 9.0259024528771E8
   },
   {
    "level": 1,
    "resolution": 119405.406677,
    "scale": 4.51295122643855E8
   },
   {
    "level": 2,
    "resolution": 59702.7033384999,
    "scale": 2.25647561321927E8
   },
   {
    "level": 3,
    "resolution": 29851.3516692501,
    "scale": 1.12823780660964E8
   },
   {
    "level": 4,
    "resolution": 14925.675834625,
    "scale": 5.6411890330482E7
   },
   {
    "level": 5,
    "resolution": 7462.83791731252,
    "scale": 2.8205945165241E7
   },
   {
    "level": 6,
    "resolution": 3731.41895865639,
    "scale": 1.4102972582621E7
   },
   {
    "level": 7,
    "resolution": 1865.70947932806,
    "scale": 7051486.29131
   },
   {
    "level": 8,
    "resolution": 932.854739664032,
    "scale": 3525743.145655
   },
   {
    "level": 9,
    "resolution": 466.427369832148,
    "scale": 1762871.572828
   },
   {
    "level": 10,
    "resolution": 233.213684916074,
    "scale": 881435.786414
   },
   {
    "level": 11,
    "resolution": 116.60684245803701,
    "scale": 440717.893207
   },
   {
    "level": 12,
    "resolution": 58.30342122888621,
    "scale": 220358.946603
   },
   {
    "level": 13,
    "resolution": 29.151710614575396,
    "scale": 110179.473302
   },
   {
    "level": 14,
    "resolution": 14.5758553072877,
    "scale": 55089.736651
   },
   {
    "level": 15,
    "resolution": 7.28792765351156,
    "scale": 27544.868325
   },
   {
    "level": 16,
    "resolution": 3.64396382688807,
    "scale": 13772.434163
   },
   {
    "level": 17,
    "resolution": 1.82198191331174,
    "scale": 6886.217081
   },
   {
    "level": 18,
    "resolution": 0.910990956788164,
    "scale": 3443.108541
   },
   {
    "level": 19,
    "resolution": 0.45549547826179,
    "scale": 1721.55427
   },
   {
    "level": 20,
    "resolution": 0.227747739130895,
    "scale": 860.777135
   },
   {
    "level": 21,
    "resolution": 0.113873869697739,
    "scale": 430.388568
   },
   {
    "level": 22,
    "resolution": 0.05693693484887,
    "scale": 215.194284
   },
   {
    "level": 23,
    "resolution": 0.028468467424435,
    "scale": 107.597142
   }
  ]
 },
 "storageInfo": {
  "storageFormat": "esriMapCacheStorageModeCompactV2",
  "packetSize": 128
 },
 "initialExtent": {
  "xmin": -1483512.8467132086,
  "ymin": -1757460.7703188015,
  "xmax": 5546469.429285129,
  "ymax": 5676094.562264626,
  "spatialReference": {
   "wkid": 5936,
   "latestWkid": 5936,
   "xyTolerance": 0.001,
   "zTolerance": 0.001,
   "mTolerance": 0.001,
   "falseX": -28567900,
   "falseY": -28567900,
   "xyUnits": 10000,
   "falseZ": -100000,
   "zUnits": 10000,
   "falseM": -100000,
   "mUnits": 10000
  }
 },
 "fullExtent": {
  "xmin": -2623285.8808999993,
  "ymin": -2623287.152999997,
  "xmax": 6623285.880299997,
  "ymax": 6623284.608199999,
  "spatialReference": {
   "wkid": 5936,
   "latestWkid": 5936,
   "xyTolerance": 0.001,
   "zTolerance": 0.001,
   "mTolerance": 0.001,
   "falseX": -28567900,
   "falseY": -28567900,
   "xyUnits": 10000,
   "falseZ": -100000,
   "zUnits": 10000,
   "falseM": -100000,
   "mUnits": 10000
  }
 },
 "datesInUnknownTimezone": false,
 "minScale": 0,
 "maxScale": 0,
 "units": "esriMeters",
 "supportedImageFormatTypes": "PNG32,PNG24,PNG,JPG,DIB,TIFF,EMF,PS,PDF,GIF,SVG,SVGZ,BMP",
 "documentInfo": {
  "Title": "Arctic Ocean Reference",
  "Author": "",
  "Comments": "<DIV STYLE=\"text-align:Left;font-size:12pt\"><P><SPAN>This map service is designed to be used as the reference layer for the ocean base map. The reference layer includes marine water body names, undersea feature names, and derived depth values in meters. Land features include administrative boundaries, cities, inland waters, roads, overlaid on land cover and shaded relief imagery. The reference layer was compiled from a variety of best available sources from several data providers, including General Bathymetric Chart of the Oceans GEBCO_08 Grid, IHO-IOC GEBCO Gazetteer of Undersea Feature Names, National Oceanic and Atmospheric Administration (NOAA), and National Geographic, DeLorme, HERE, Geonames.org, and Esri, and various other contributors. The base map currently provides coverage for the world down to a scale of ~1:577k, and coverage down to 1:72k in US coastal areas, and various other areas. Coverage down to ~ 1:9k is available limited areas based on regional hydrographic survey data. The base map was designed and developed by Esri. NOTE: Data from the GEBCO_08 grid shall not to be used for navigation or for any other purpose relating to safety at sea. The GEBCO_08 Grid is largely based on a database of ship-track soundings with interpolation between soundings guided by satellite-derived gravity data. In some areas, data from existing grids are included. The GEBCO_08 Grid does not contain detailed information in shallower water areas, information concerning the generation of the grid can be found on GEBCO's web site: GEBCO. The GEBCO_08 Grid is accompanied by a Source Identifier (SID) Grid which indicates which cells in the GEBCO_08 Grid are based on soundings or existing grids and which have been interpolated. The latest version of both grids and accompanying documentation is available to download, on behalf of GEBCO, from the British Oceanographic Data Centre (BODC) BODC. The names of the IHO (International Hydrographic Organization), IOC (intergovernmental Oceanographic Commission), GEBCO (General Bathymetric Chart of the Oceans), NERC (Natural Environment Research Council) or BODC (British Oceanographic Data Centre) may not be used in any way to imply, directly or otherwise, endorsement or support of either the Licensee or their mapping system. For more information on this map, including our terms of use, visit us online at https://goto.arcgisonline.com/maps/Arctic_Ocean_Reference<\/SPAN><\/P><\/DIV>",
  "Subject": "Marine water body names, undersea feature names, and derived depth values in meters in the Arctic.",
  "Category": "",
  "Version": "3.1.0",
  "AntialiasingMode": "Fast",
  "TextAntialiasingMode": "Force",
  "Keywords": "World,Global,Bathymetry,Ocean,Seafloor"
 },
 "supportsQueryDomains": true,
 "capabilities": "Map,Tilemap",
 "supportedQueryFormats": "JSON, geoJSON, PBF",
 "exportTilesAllowed": false,
 "referenceScale": 0.0,
 "supportsDatumTransformation": true,
 "archivingInfo": {
  "supportsHistoricMoment": false
 },
 "supportsClipping": true,
 "supportsSpatialFilter": true,
 "supportsTimeRelation": true,
 "supportsQueryDataElements": true,
 "mapUnits": {
  "uwkid": 9001
 },
 "maxRecordCount": 2000,
 "maxImageHeight": 4096,
 "maxImageWidth": 4096,
 "supportedExtensions": "KmlServer"
}
