View In:
ArcGIS JavaScript
ArcGIS Online Map Viewer
ArcGIS Earth
ArcMap
ArcGIS Pro
View Footprint In:
ArcGIS Online Map Viewer
Service Description: Antarctic Imagery provides 15m TerraColor imagery for the Antarctic region. For more information on this map, including the terms of use, visit us
online.
Map Name: Layers
Legend
All Layers and Tables
Layers:
Description: Antarctic Imagery provides 15m TerraColor imagery for the Antarctic region. For more information on this map, including the terms of use, visit us online at http://goto.arcgisonline.com/maps/Antarctic_Imagery
Copyright Text: Source: Earthstar Geographics
Spatial Reference:
3031
(3031)
Single Fused Map Cache: true
Tile Info:
- Height: 256
- Width: 256
- DPI: 96
-
Levels of Detail: 24
-
Level ID: 0
[ Start Tile, End Tile ]
- Resolution: 238810.81335399998
- Scale: 9.0259024528771E8
-
Level ID: 1
[ Start Tile, End Tile ]
- Resolution: 119405.40667699999
- Scale: 4.51295122643855E8
-
Level ID: 2
[ Start Tile, End Tile ]
- Resolution: 59702.70333849987
- Scale: 2.25647561321927E8
-
Level ID: 3
[ Start Tile, End Tile ]
- Resolution: 29851.351669250063
- Scale: 1.12823780660964E8
-
Level ID: 4
[ Start Tile, End Tile ]
- Resolution: 14925.675834625032
- Scale: 5.6411890330482E7
-
Level ID: 5
[ Start Tile, End Tile ]
- Resolution: 7462.837917312516
- Scale: 2.8205945165241E7
-
Level ID: 6
[ Start Tile, End Tile ]
- Resolution: 3731.4189586563907
- Scale: 1.4102972582621E7
- Format: JPEG
- Compression Quality: 75.0
- Origin: X: -3.369955099203E7
Y: 3.369955101703E7
- Spatial Reference: 3031
(3031)
Initial Extent:
XMin: -9913957.327914657
YMin: -5730886.461772691
XMax: 9913957.327914657
YMax: 5730886.461773157
Spatial Reference: 3031
(3031)
Full Extent:
XMin: -3.0635955947272874E7
YMin: -3.063595594727252E7
XMax: 3.0635955947272874E7
YMax: 3.0635955947272986E7
Spatial Reference: 3031
(3031)
Units: esriMeters
Supported Image Format Types: PNG32,PNG24,PNG,JPG,DIB,TIFF,EMF,PS,PDF,GIF,SVG,SVGZ,BMP
Document Info:
Title: World Imagery
Author: Esri
Comments:
Subject: imagery, satellite, aerial, 500m (World), 15m (World)
Category: imageryBaseMapsEarthCover (Imagery, basemaps, and land cover)
Keywords: World,Global,Antarctic
AntialiasingMode: None
TextAntialiasingMode: Force
Supports Dynamic Layers: false
MaxRecordCount: 1000
MaxImageHeight: 4096
MaxImageWidth: 4096
Supported Query Formats: JSON, geoJSON
Supports Query Data Elements:
Min Scale: 0
Max Scale: 0
Supports Datum Transformation: true
Child Resources:
Info
Supported Operations:
Export Map
QueryLegends
Return Updates
Generate KML